{"text_format":"1","workbook":"xlsx","n_sheets":5,"sheets":["实验室","危化品","设备设施","下拉菜单","结果汇总"],"not_rendered":{"charts":0,"images":0,"macros":1,"external_links":0,"defined_names":0,"comments":0,"pivot_tables":0},"unopened":[],"bounds":{"document_bytes":16777216,"sheet_cells":100000,"rows_first":2000,"rows_last":500,"rows_between":2000,"halvings":0,"cell_chars":16384,"cell_head_chars":4096},"cells_cut":0,"cells_raw":0,"read":"whole","date_system":"1900"}

{"sheet":"实验室","index":0,"n_rows":18,"n_cols":12,"rows_kept":18,"cut":false,"hidden":false,"merged":[[11,1,11,2],[11,6,11,7],[12,1,12,2],[12,6,12,7],[1,0,1,11],[2,0,2,11],[3,0,3,11],[4,1,4,2],[4,6,4,7],[5,1,5,2],[5,6,5,7],[6,1,6,2],[6,6,6,7],[7,1,7,2],[7,6,7,7],[8,1,8,2],[13,1,13,2],[13,6,13,7],[14,1,14,2],[14,6,14,7],[15,1,15,2],[15,6,15,7],[8,6,8,7],[9,1,9,2],[9,6,9,7],[10,1,10,2],[10,6,10,7]]}
["实验室主任：                    课题组组长：                       安全员：                 日期：   年  月  日"]
["四、科研生产安全"]
["1.实验室"]
["填写说明：1.“实验室名称”请填写已获得所级及以上部门审批的实验室；\n2.“学科类别”请填写学科代码，参照附件1，交叉学科可按相关度由高到低按顺序最多填写两个学科代码；\n3.“类型”请填写“国家实验室、国家工程实验室、国家重点实验室、中科院重点实验室、其他部级重点实验室、省部共建实验室、省级重点实验室、其他等”,如同时属于多个类别，请务必多选；\n4.“涉及”请填写编号“1、2、3”，其中“1”危化品；“2”特种设备；“3”重大科学基础设施。"]
["编号","实验室名称",null,"学科类别2","学科类别","师生人数","主要科研方向",null,"类型3","涉及4","负责人姓名","手机号"]
[1,"集成中心",null,80903,null,null,"光电子微电子器件工艺研究",null,"中科院重点实验室","1,2,3","王晓东"]
[{"$f":"A6+1","v":2},"工程中心",null,80901,80903,null,"大功率半导体激光器",null,"国家工程实验室","1,2,3","刘素平"]
[{"$f":"A7+1","v":3},"纳米光电子",null,80901,80903,null,"半导体器件",null,"其他","1,2,3","韦欣"]
[4,"半导体超晶格国家重点实验室",null,70205,null,null,"凝聚物理",null,"国家重点实验室","1，3","王开友"]
[5,"高速电路与神经网络实验室",null,80804,81001,null,"模混合电路、半导体人工神经网络算法及硬件化系统研究、智能信息处理、模式识别、电力设备状态监测等科研方向的系列研究成果。实验室将在这些基础上结合当今科学技术的前沿发展趋势和社会需求，开展高性能集成电路研究，开展神经网络图像处理与识别研究，开展以半导体微电子技术、连接主义（connectionism）计算技术、智能化信号处理为基础的多学科交叉领域的高技术基础性研究。探索这些学科交叉中的新应用技术理论，开拓新的实际应用领域。",null,"其他",3,"李卫军 "]
[6,"照明中心  ",null,80903,80501,null,"第三代宽禁带半导体材料与器件",null,"国家重点实验室",3,"王军喜"]
[7,"全固态光源实验室",null,803,70207,null,"固体激光工程",null,"其他",3,"林学春"]
[8,"光电系统",null,80300,null,null,"光纤传感",null,"其他",1,"李芳"]
[9,"光电研发中心",null,809,null,null,"半导体光电子器件",null,"中科院重点实验室","1，2","赵德刚"]
[10,"材料重点实验室",null,80501,80903,null,"半导体材料与器件",null,"中科院重点实验室","1，2","王智杰"]
[{"$f":"A15+1","v":11},"固态光电实验室",null,809,null,null,"材料生长，半导体激光器",null,"中科院重点实验室","1,2,3","郑婉华"]
[]
["备注：表中“黄颜色”需填"]

{"sheet":"危化品","index":1,"n_rows":80,"n_cols":12,"rows_kept":80,"cut":false,"hidden":false,"merged":[[1,0,1,11],[2,0,2,11],[3,0,3,11],[4,0,4,5],[4,7,4,11],[5,0,5,2],[5,7,5,8],[9,0,9,2],[9,7,9,8],[10,0,10,2],[10,7,10,8],[11,0,11,2],[11,7,11,8],[6,0,6,2],[6,7,6,8],[7,0,7,2],[7,7,7,8],[8,0,8,2],[8,7,8,8],[15,0,15,2],[15,7,15,8],[12,0,12,2],[12,7,12,8],[13,0,13,2],[13,7,13,8],[14,0,14,2],[14,7,14,8],[16,0,16,2],[16,7,16,8],[17,0,17,2],[17,7,17,8],[22,0,22,2],[22,7,22,8],[23,0,23,2],[23,7,23,8],[24,0,24,2],[24,7,24,8],[19,0,19,5],[19,7,19,11],[20,0,20,2],[20,7,20,8],[21,0,21,2],[21,7,21,8],[28,0,28,2],[28,7,28,8],[29,0,29,2],[29,7,29,8],[30,0,30,2],[30,7,30,8],[25,0,25,2],[25,7,25,8],[26,0,26,2],[26,7,26,8],[27,0,27,2],[27,7,27,8],[35,0,35,2],[35,7,35,8],[37,0,37,2],[37,7,37,8],[39,0,39,2],[39,7,39,8],[31,0,31,2],[31,7,31,8],[32,0,32,2],[32,7,32,8],[34,0,34,5],[34,7,34,11],[38,0,38,2],[38,7,38,8],[36,0,36,2],[36,7,36,8],[43,0,43,2],[43,7,43,8],[44,0,44,2],[44,7,44,8],[45,0,45,2],[45,7,45,8],[40,0,40,2],[40,7,40,8],[41,0,41,2],[41,7,41,8],[42,0,42,2],[42,7,42,8],[49,0,49,2],[49,7,49,8],[51,0,51,5],[51,7,51,11],[52,0,52,2],[52,7,52,8],[46,0,46,2],[46,7,46,8],[47,0,47,2],[47,7,47,8],[48,0,48,2],[48,7,48,8],[56,0,56,2],[56,7,56,8],[57,0,57,2],[57,7,57,8],[58,0,58,2],[58,7,58,8],[53,0,53,2],[53,7,53,8],[54,0,54,2],[54,7,54,8],[55,0,55,2],[55,7,55,8],[62,0,62,2],[62,7,62,8],[63,0,63,2],[63,7,63,8],[64,0,64,2],[64,7,64,8],[59,0,59,2],[59,7,59,8],[60,0,60,2],[60,7,60,8],[61,0,61,2],[61,7,61,8],[67,0,67,11],[68,0,68,2],[68,3,68,11],[69,0,69,2],[69,3,69,11],[70,0,70,2],[70,3,70,4],[70,6,70,8],[70,9,70,10],[71,0,71,4],[71,5,71,11],[72,0,72,11],[73,0,73,1],[73,2,73,3],[73,4,73,5],[73,6,73,7],[73,8,73,9],[73,10,73,11],[75,0,75,1],[75,2,75,3],[75,4,75,5],[75,6,75,7],[75,8,75,9],[75,10,75,11],[74,0,74,1],[74,2,74,3],[74,4,74,5],[74,6,74,7],[74,8,74,9],[74,10,74,11],[77,0,77,1],[77,2,77,3],[77,4,77,5],[77,6,77,7],[77,8,77,9],[77,10,77,11],[76,0,76,1],[76,2,76,3],[76,4,76,5],[76,6,76,7],[76,8,76,9],[76,10,76,11],[79,0,79,1],[79,2,79,3],[79,4,79,5],[79,6,79,7],[79,8,79,9],[79,10,79,11],[78,0,78,1],[78,2,78,3],[78,4,78,5],[78,6,78,7],[78,8,78,9],[78,10,78,11]]}
[]
["2.危化品管理"]
["2.1危化品数量"]
["填写说明：1.本表将危化品分为爆炸品、压缩气体和液化气体、易燃液体等八大类，具体释义请见附件2；\n          2.“数量”请填写当年购买、使用和储存的总量；\n          3.“品名”栏请填写现已列入《危险化学品目录（2015版）》中的危化品名称，请参照附件3；\n          4.“CAS号”为必填项，请根据“品名”参照附件3查询填写。"]
["一、爆炸品",null,null,null,null,null,null,"二、压缩气体和液化气体"]
["品名",null,null,"CAS号","数量","单位",null,"品名",null,"CAS号","数量","单位"]
[]
[]
[]
[]
[]
[]
[]
[]
[]
[]
[]
[]
[]
["三、易燃液体",null,null,null,null,null,null,"四、易燃固体、自燃物品和遇湿易燃物品"]
["品名",null,null,"CAS号","数量","单位"]
[]
[]
[]
[]
[]
[]
[]
[]
[]
[]
[]
[]
[]
["五、氧化剂和有机过氧化物",null,null,null,null,null,null,"六、毒害品"]
["品名",null,null,"CAS号","数量","单位",null,"品名",null,"CAS号","数量","单位"]
[]
[]
[]
[]
[]
[]
[]
[]
[]
[]
[]
[]
[]
[]
[]
["七、放射性物品",null,null,null,null,null,null,"八、腐蚀性物品"]
["品名",null,null,"CAS号","数量","单位",null,"品名",null,"CAS号","数量","单位"]
[]
[]
[]
[]
[]
[]
[]
[]
[]
[]
[]
[]
[]
[]
["2.2危化品管理"]
["是否有危化品库："]
["危化品暂存地点："]
["危化品库面积：",null,null,30,null,"平米，","与其他设施最小间距：",null,null,"    20米             ",null,"米"]
["是否存在危化品重大危险源："]
["2.3危险废弃物管理"]
["类型",null,"数量\n（年内产生）",null,"单位\n（吨、升等）",null,"回收间隔\n（月、季、年等）",null,"暂存地\n（位置）",null,"责任人\n（有、无）"]
["有机"]
["无机"]
["酸碱"]
["重金属"]
["生物"]
["其他"]

{"sheet":"设备设施","index":2,"n_rows":10,"n_cols":11,"rows_kept":10,"cut":false,"hidden":false,"merged":[[1,0,1,11],[2,0,2,2],[2,3,2,4],[2,5,2,6],[2,7,2,9],[2,10,2,11],[4,0,4,2],[4,3,4,4],[4,5,4,6],[4,7,4,9],[4,10,4,11],[3,0,3,2],[3,3,3,4],[3,5,3,6],[3,7,3,9],[3,10,3,11],[6,0,6,2],[6,3,6,4],[6,5,6,6],[6,7,6,9],[6,10,6,11],[5,0,5,2],[5,3,5,4],[5,5,5,6],[5,7,5,9],[5,10,5,11],[9,0,9,2],[9,3,9,4],[9,5,9,6],[9,7,9,9],[9,10,9,11],[8,0,8,2],[8,3,8,4],[8,5,8,6],[8,7,8,9],[8,10,8,11],[7,0,7,2],[7,3,7,4],[7,5,7,6],[7,7,7,9],[7,10,7,11]]}
[]
["3.特种设备管理"]
["设备名称",null,null,"数量",null,"单位\n（台、套等）",null,"用途",null,null,"管理责任部门"]
["机械加工设备"]
["起重设备"]
["压力容器"]
["压力管道"]
["锅炉"]
["电梯"]
["其他"]

{"sheet":"下拉菜单","index":3,"n_rows":24,"n_cols":3,"rows_kept":24,"cut":false,"hidden":true,"merged":[]}
["实验室","类型","涉及"]
[null,"国家实验室","危化品"]
[null,"国家工程实验室","特种设备"]
[null,"国家重点实验室","重大科学基础设施"]
[null,"中科院重点实验室"]
[null,"教育部重点实验室"]
[null,"省部共建重点实验室"]
[null,"省重点实验室"]
[null,"其他"]
[]
["重大科学基础设施","类别","状态"]
[null,"专用研究装置","运行"]
[null,"公共实验平台","在建"]
[null,"公益基础设施","立项"]
[]
[null,"培训者","课题组负责人"]
[null,null,"安全员"]
[null,null,"指导老师"]
[null,null,"外聘老师"]
[null,null,"其他"]
[null,"培训方式","授课"]
[null,null,"考试"]
[null,null,"实操"]
[null,null,"其他"]

{"sheet":"结果汇总","index":4,"n_rows":299,"n_cols":4,"rows_kept":299,"cut":false,"hidden":true,"merged":[[0,1,0,2]]}
[null,"数据统计汇总表"]
["一、基本情况","标记","数据项"]
[null,null,"单位名称（全称）",{"$f":"#REF!","v":{"$error":"#REF!"}}]
[1,null,"应编人数：",{"$f":"#REF!","v":{"$error":"#REF!"}}]
[null,null,"在编人数：",{"$f":"#REF!","v":{"$error":"#REF!"}}]
[null,null,"临时聘用人数：",{"$f":"#REF!","v":{"$error":"#REF!"}}]
[null,null,"学生人数：",{"$f":"#REF!","v":{"$error":"#REF!"}}]
[null,null,"联合培养学生人数：",{"$f":"#REF!","v":{"$error":"#REF!"}}]
[null,null,"离退休人数：",{"$f":"#REF!","v":{"$error":"#REF!"}}]
[2,null,"多园区：",2]
[null,"地址1","地址1",{"$f":"#REF!","v":{"$error":"#REF!"}}]
[null,null,"占地面积",{"$f":"#REF!","v":{"$error":"#REF!"}}]
[null,null,"兴建时间",{"$f":"#REF!","v":{"$error":"#REF!"}}]
[null,null,"入驻人数",{"$f":"#REF!","v":{"$error":"#REF!"}}]
[null,"包含","办公楼",true]
[null,null,"科研教学楼",true]
[null,null,"宿舍",true]
[null,null,"危化品库",true]
[null,null,"食堂",true]
[null,null,"其他",{"$f":"#REF!","v":{"$error":"#REF!"}}]
[null,"园区管理","封闭",false]
[null,null,"半封闭",true]
[null,null,"开放",false]
[null,"距离最近的","医院",{"$f":"#REF!","v":{"$error":"#REF!"}}]
[null,null,"公安机关",{"$f":"#REF!","v":{"$error":"#REF!"}}]
[null,null,"消防队",{"$f":"#REF!","v":{"$error":"#REF!"}}]
[null,"地址2","地址2",{"$f":"#REF!","v":{"$error":"#REF!"}}]
[null,null,"占地面积",{"$f":"#REF!","v":{"$error":"#REF!"}}]
[null,null,"兴建时间",{"$f":"#REF!","v":{"$error":"#REF!"}}]
[null,null,"入驻人数",{"$f":"#REF!","v":{"$error":"#REF!"}}]
[null,"包含","办公楼",false]
[null,null,"科研教学楼",false]
[null,null,"宿舍",false]
[null,null,"危化品库",false]
[null,null,"食堂"]
[null,null,"其他",{"$f":"#REF!","v":{"$error":"#REF!"}}]
[null,"园区管理","封闭",false]
[null,null,"半封闭",false]
[null,null,"开放",false]
[null,"距离最近的","医院",{"$f":"#REF!","v":{"$error":"#REF!"}}]
[null,null,"公安机关",{"$f":"#REF!","v":{"$error":"#REF!"}}]
[null,null,"消防队",{"$f":"#REF!","v":{"$error":"#REF!"}}]
[null,"地址3","地址3",{"$f":"#REF!","v":{"$error":"#REF!"}}]
[null,null,"占地面积",{"$f":"#REF!","v":{"$error":"#REF!"}}]
[null,null,"兴建时间",{"$f":"#REF!","v":{"$error":"#REF!"}}]
[null,null,"入驻人数",{"$f":"#REF!","v":{"$error":"#REF!"}}]
[null,"包含","办公楼",false]
[null,null,"科研教学楼",false]
[null,null,"宿舍",true]
[null,null,"危化品库",false]
[null,null,"食堂"]
[null,null,"其他",{"$f":"#REF!","v":{"$error":"#REF!"}}]
[null,"园区管理","封闭",false]
[null,null,"半封闭",false]
[null,null,"开放",false]
[null,"距离最近的","医院",{"$f":"#REF!","v":{"$error":"#REF!"}}]
[null,null,"公安机关",{"$f":"#REF!","v":{"$error":"#REF!"}}]
[null,null,"消防队",{"$f":"#REF!","v":{"$error":"#REF!"}}]
[null,"地址4","地址4",{"$f":"#REF!","v":{"$error":"#REF!"}}]
[null,null,"占地面积",{"$f":"#REF!","v":{"$error":"#REF!"}}]
[null,null,"兴建时间",{"$f":"#REF!","v":{"$error":"#REF!"}}]
[null,null,"入驻人数",{"$f":"#REF!","v":{"$error":"#REF!"}}]
[null,"包含","办公楼",false]
[null,null,"科研教学楼",false]
[null,null,"宿舍",false]
[null,null,"危化品库",false]
[null,null,"食堂",false]
[null,null,"其他",{"$f":"#REF!","v":{"$error":"#REF!"}}]
[null,"园区管理","封闭",false]
[null,null,"半封闭",false]
[null,null,"开放",false]
[null,"距离最近的","医院",{"$f":"#REF!","v":{"$error":"#REF!"}}]
[null,null,"公安机关",{"$f":"#REF!","v":{"$error":"#REF!"}}]
[null,null,"消防队",{"$f":"#REF!","v":{"$error":"#REF!"}}]
[3,"地上建筑","主要建筑占地面积",{"$f":"#REF!","v":{"$error":"#REF!"}}]
[null,null,"建筑面积",{"$f":"#REF!","v":{"$error":"#REF!"}}]
[null,null,"楼房建筑面积",{"$f":"#REF!","v":{"$error":"#REF!"}}]
[null,null,"平房建筑面积",{"$f":"#REF!","v":{"$error":"#REF!"}}]
[null,null,"地下空间建筑面积",{"$f":"#REF!","v":{"$error":"#REF!"}}]
[null,null,"用途",{"$f":"#REF!","v":{"$error":"#REF!"}}]
[null,null,"50年代前",{"$f":"#REF!","v":{"$error":"#REF!"}}]
[null,null,"用途",{"$f":"#REF!","v":{"$error":"#REF!"}}]
[null,null,"50-80",{"$f":"#REF!","v":{"$error":"#REF!"}}]
[null,null,"用途",{"$f":"#REF!","v":{"$error":"#REF!"}}]
[null,null,"80-00",{"$f":"#REF!","v":{"$error":"#REF!"}}]
[null,null,"用途",{"$f":"#REF!","v":{"$error":"#REF!"}}]
[null,null,"00后",{"$f":"#REF!","v":{"$error":"#REF!"}}]
[null,null,"用途",{"$f":"#REF!","v":{"$error":"#REF!"}}]
[4,"安全事件"," 火灾及其他灾害事件（含野外台站）：",{"$f":"#REF!","v":{"$error":"#REF!"}}]
[null,null," 人身伤亡及群体性事件（含食品安全）：",{"$f":"#REF!","v":{"$error":"#REF!"}}]
[null,null," 财物失窃事件（园区和宿舍）：",{"$f":"#REF!","v":{"$error":"#REF!"}}]
[null,null," 相关刑事案件：",{"$f":"#REF!","v":{"$error":"#REF!"}}]
[null,null,"  其他案件（事件）：",{"$f":"#REF!","v":{"$error":"#REF!"}}]
["二、安全管理组织","安全管理机构","安全分管领导：",{"$f":"#REF!","v":{"$error":"#REF!"}}]
[1,null,"职务",{"$f":"#REF!","v":{"$error":"#REF!"}}]
[null,null,"手机",{"$f":"#REF!","v":{"$error":"#REF!"}}]
[null,null,"安全责任部门：",{"$f":"#REF!","v":{"$error":"#REF!"}}]
[null,null,"责任部门负责人",{"$f":"#REF!","v":{"$error":"#REF!"}}]
[null,null,"职务",{"$f":"#REF!","v":{"$error":"#REF!"}}]
[null,null,"手机",{"$f":"#REF!","v":{"$error":"#REF!"}}]
[null,null,"安全管理干部",{"$f":"#REF!","v":{"$error":"#REF!"}}]
[null,null,"职务",{"$f":"#REF!","v":{"$error":"#REF!"}}]
[null,null,"手机",{"$f":"#REF!","v":{"$error":"#REF!"}}]
[null,null,"安全管理干部",{"$f":"#REF!","v":{"$error":"#REF!"}}]
[null,null,"职务",{"$f":"#REF!","v":{"$error":"#REF!"}}]
[null,null,"手机",{"$f":"#REF!","v":{"$error":"#REF!"}}]
[null,null,"安全管理干部",{"$f":"#REF!","v":{"$error":"#REF!"}}]
[null,null,"职务",{"$f":"#REF!","v":{"$error":"#REF!"}}]
[null,null,"手机",{"$f":"#REF!","v":{"$error":"#REF!"}}]
[null,null,"安全管理干部",{"$f":"#REF!","v":{"$error":"#REF!"}}]
[null,null,"职务",{"$f":"#REF!","v":{"$error":"#REF!"}}]
[null,null,"手机",{"$f":"#REF!","v":{"$error":"#REF!"}}]
[null,null,"安全管理干部",{"$f":"#REF!","v":{"$error":"#REF!"}}]
[null,null,"职务",{"$f":"#REF!","v":{"$error":"#REF!"}}]
[null,null,"手机",{"$f":"#REF!","v":{"$error":"#REF!"}}]
[2,1,"组织机构",true]
["安全管理制度",null,"安全责任",true]
[null,null,"人员管理",true]
[null,null,"安全生产",true]
[null,null,"操作规程",true]
[null,null,"安全教育培训  ",true]
[null,null,"危化品管理",true]
[null,null,"实验室管理",true]
[null,null,"特种设备管理",true]
[null,null,"应急处置",true]
[null,null,"检查与奖惩",true]
[null,null,"其他   ",false]
[null,2,"是否规定修订的时机和频次",1]
[null,null,"是否按规定修订",1]
[null,null,"评审和修订记录完备",1]
[null,null,"有管理人员、技术人员、操作人员共同参与评审和修订",1]
[3,"安全工作会议","总次数",{"$f":"COUNTA(#REF!)","v":1}]
[null,null,"参加人数",{"$f":"SUM(#REF!)","v":{"$error":"#REF!"}}]
[4,"安全教育培训一级","总次数",{"$f":"COUNTA(#REF!)","v":1}]
[null,null,"参加人数",{"$f":"SUM(#REF!)","v":{"$error":"#REF!"}}]
[null,"安全教育培训二级","主题"]
[null,null,"次数",{"$f":"SUM(#REF!)","v":{"$error":"#REF!"}}]
[null,null,"人数",{"$f":"SUM(#REF!)","v":{"$error":"#REF!"}}]
[5,null,"专业的应急队伍：",2]
[null,null,"针对主要风险事件类型制定应急预案：",2]
[null,null,"应急预案演练频次（年度）：",false]
[null,null,null,true]
[null,null,null,false]
[null,null,"事故报告制度：",2]
[null,null,"事故内部调查：",2]
[null,null,"事故调查记录完备："]
["三","安全队伍","是否建立兼职安全员队伍：",2]
[null,null,"是否制定兼职安全员相关制度：",2]
[null,null,"安保队伍的组建方式：",true]
[null,null,null,false]
[null,null,null,false]
[null,null,"安全员人数",{"$f":"#REF!","v":{"$error":"#REF!"}}]
[null,null,"安保队伍人数",{"$f":"#REF!","v":{"$error":"#REF!"}}]
["四","实验室"]
[null,"危化品数量"]
[2.2000000000000002,"危化品管理","是否有危化品库：",1]
[null,"危化品暂存地点：","危化品库",true]
[null,null,"实验室"]
[null,null,"临时房间"]
[null,null,"不确定"]
[null,null,"其他"]
[null,null,"危化品库面积：",{"$f":"危化品!$D$71","v":30}]
[null,null,"与其他设施最小间距：",{"$f":"危化品!$J$71","v":"    20米             "}]
[null,null,"是否存在危化品重大危险源：",2]
[2.2999999999999998,"有机","数量",{"$f":"危化品!C75","v":0}]
[null,null,"单位",{"$f":"危化品!E75","v":0}]
[null,null,"回收间隔",{"$f":"危化品!G75","v":0}]
[null,null,"暂存地",{"$f":"危化品!I75","v":0}]
[null,null,"责任人",{"$f":"危化品!K75","v":0}]
[null,"无机","数量",{"$f":"危化品!C76","v":0}]
[null,null,"单位",{"$f":"危化品!E76","v":0}]
[null,null,"回收间隔",{"$f":"危化品!G76","v":0}]
[null,null,"暂存地",{"$f":"危化品!I76","v":0}]
[null,null,"责任人",{"$f":"危化品!K76","v":0}]
[null,"酸碱","数量",{"$f":"危化品!C77","v":0}]
[null,null,"单位",{"$f":"危化品!E77","v":0}]
[null,null,"回收间隔",{"$f":"危化品!G77","v":0}]
[null,null,"暂存地",{"$f":"危化品!I77","v":0}]
[null,null,"责任人",{"$f":"危化品!K77","v":0}]
[null,"重金属","数量",{"$f":"危化品!C78","v":0}]
[null,null,"单位",{"$f":"危化品!E78","v":0}]
[null,null,"回收间隔",{"$f":"危化品!G78","v":0}]
[null,null,"暂存地",{"$f":"危化品!I78","v":0}]
[null,null,"责任人",{"$f":"危化品!K78","v":0}]
[null,"生物","数量",{"$f":"危化品!C79","v":0}]
[null,null,"单位",{"$f":"危化品!E79","v":0}]
[null,null,"回收间隔",{"$f":"危化品!G79","v":0}]
[null,null,"暂存地",{"$f":"危化品!I79","v":0}]
[null,null,"责任人",{"$f":"危化品!K79","v":0}]
[null,"其他","数量",{"$f":"危化品!C80","v":0}]
[null,null,"单位",{"$f":"危化品!E80","v":0}]
[null,null,"回收间隔",{"$f":"危化品!G80","v":0}]
[null,null,"暂存地",{"$f":"危化品!I80","v":0}]
[null,null,"责任人",{"$f":"危化品!K80","v":0}]
[3,"特种设备管理机械加工设备","数量"]
[null,null,"单位"]
[null,null,"用途"]
[null,null,"管理责任部门"]
[null,"起重设备","数量"]
[null,null,"单位"]
[null,null,"用途"]
[null,null,"管理责任部门"]
[null,"压力容器","数量"]
[null,null,"单位"]
[null,null,"用途"]
[null,null,"管理责任部门"]
[null,"压力管道","数量"]
[null,null,"单位"]
[null,null,"用途"]
[null,null,"管理责任部门"]
[null,"锅炉","数量"]
[null,null,"单位"]
[null,null,"用途"]
[null,null,"管理责任部门"]
[null,"电梯","数量"]
[null,null,"单位"]
[null,null,"用途"]
[null,null,"管理责任部门"]
[null,"其他","数量"]
[null,null,"单位"]
[null,null,"用途"]
[null,null,"管理责任部门"]
[null,"编号1","名称"]
[null,null,"单位"]
[null,null,"个人"]
[null,null,"国外"]
[null,null,"类别"]
[null,null,"状态"]
[null,null,"地理位置"]
[null,null,"安全责任部门"]
[null,null,"负责人姓名"]
[null,null,"手机号"]
[null,"编号2","名称"]
[null,null,"单位"]
[null,null,"个人"]
[null,null,"国外"]
[null,null,"类别"]
[null,null,"状态"]
[null,null,"地理位置"]
[null,null,"安全责任部门"]
[null,null,"负责人姓名"]
[null,null,"手机号"]
[null,"编号3","名称"]
[null,null,"单位"]
[null,null,"个人"]
[null,null,"国外"]
[null,null,"类别"]
[null,null,"状态"]
[null,null,"地理位置"]
[null,null,"安全责任部门"]
[null,null,"负责人姓名"]
[null,null,"手机号"]
[null,"野外科考","年度组织野外科考次数 ：",{"$f":"设备设施!#REF!","v":{"$error":"#REF!"}}]
[null,null,"参加人数",{"$f":"设备设施!#REF!","v":{"$error":"#REF!"}}]
[null,null,"科考审批制度、程序是否完备：",1]
[null,null,"是否组织针对科考人员的安全培训：",1]
[null,null,"对科考队伍的应急、医疗和通信条件进行审查：",1]
["五","消防队伍","描述",{"$f":"#REF!","v":{"$error":"#REF!"}}]
[null,null,"应对措施",{"$f":"#REF!","v":{"$error":"#REF!"}}]
[null,"消防设施","描述",{"$f":"#REF!","v":{"$error":"#REF!"}}]
[null,null,"应对措施",{"$f":"#REF!","v":{"$error":"#REF!"}}]
[null,"科研生产火灾重点防范部位","描述",{"$f":"#REF!","v":{"$error":"#REF!"}}]
[null,null,"应对措施",{"$f":"#REF!","v":{"$error":"#REF!"}}]
[null,"其他情况","描述",{"$f":"#REF!","v":{"$error":"#REF!"}}]
[null,null,"应对措施",{"$f":"#REF!","v":{"$error":"#REF!"}}]
["六","食堂","有无",{"$f":"#REF!","v":{"$error":"#REF!"}}]
[null,"宿舍",null,{"$f":"#REF!","v":{"$error":"#REF!"}}]
[null,"库房",null,{"$f":"#REF!","v":{"$error":"#REF!"}}]
[null,"礼堂及大型会议室",null,{"$f":"#REF!","v":{"$error":"#REF!"}}]
[null,"人防工程及地下空间",null,{"$f":"#REF!","v":{"$error":"#REF!"}}]
[null,"其它",null,{"$f":"#REF!","v":{"$error":"#REF!"}}]
["七","暴雨",null,{"$f":"#REF!","v":{"$error":"#REF!"}}]
[null,"台风",null,{"$f":"#REF!","v":{"$error":"#REF!"}}]
[null,"地震",null,{"$f":"#REF!","v":{"$error":"#REF!"}}]
[null,"泥石流",null,{"$f":"#REF!","v":{"$error":"#REF!"}}]
[null,"雷电",null,{"$f":"#REF!","v":{"$error":"#REF!"}}]
[null,"其它",null,{"$f":"#REF!","v":{"$error":"#REF!"}}]
["八","资产、人事、基建等重大决策做出前进行评估事项包括：","合法性",true]
[null,null,"政策性",true]
[null,null,"法规性",true]
[null,null,"合理性",true]
[null,null,"可控性",true]
[null,null,"职代会讨论",1]
[null,"项目审批","政策规划与审批程序健全：",1]
[null,null,"相关补偿协议健全：",1]
[null,"审批相关评估事项包括：",1,true]
[null,null,2,true]
[null,null,3,true]
[null,null,4,true]
[null,null,5,true]
[null,null,6,true]
[null,null,7,true]
[null,null,8]
[null,"内部纠纷","住房纠纷：",2]
[null,null,"房屋拆迁纠纷：",2]
[null,null,"劳动保障纠纷：",2]
[null,null," 经济纠纷（工资待遇）：",2]
[null,null,"涉法、涉诉纠纷：",2]
[null,null,"群体事件（暴力、非正常上访、人员聚集等）：",2]